BEGIN:VCALENDAR
VERSION:2.0
PRODID:-//hacksw/handcal//NONSGML v1.0//EN
CALSCALE:GREGORIAN
BEGIN:VEVENT
SUMMARY:The Family Values Tour Tribute Night
DESCRIPTION:The Family Values Tour Is Back — Tribute Concert | June 13 
LOCATION:533 12th Ave.\, East Moline\, IL\, 61244
DTSTART:20260614T000000Z
DTEND:20260614T040000Z
URL;VALUE=URI:https://therustbeltqc.com/events/the-family-values-tour-tribute-night
DTSTAMP:20260423T190147Z
UID:69ea6c9b623a1
END:VEVENT
END:VCALENDAR