BEGIN:VCALENDAR
VERSION:2.0
PRODID:-//hacksw/handcal//NONSGML v1.0//EN
CALSCALE:GREGORIAN
BEGIN:VEVENT
SUMMARY:Shut Up & Rock with Pop Evil & I-Rock 93.5
DESCRIPTION:Shut Up & Rock this spring with Pop Evil. With special guests Sierra Pilot\, Kamenar\, & The Forty Twos. 
LOCATION:533 12th Ave.\, East Moline\, IL\, 61244
DTSTART:20260426T010000Z
DTEND:20260426T040000Z
URL;VALUE=URI:https://therustbeltqc.com/events/shut-up-rock-with-pop-evil-i-rock-93-5
DTSTAMP:20260421T135154Z
UID:69e780fa46b11
END:VEVENT
END:VCALENDAR