BEGIN:VCALENDAR
VERSION:2.0
PRODID:-//hacksw/handcal//NONSGML v1.0//EN
CALSCALE:GREGORIAN
BEGIN:VEVENT
SUMMARY:Lorna Shore
DESCRIPTION:Lorna Shore is hitting The Rust Belt stage on Saturday\, May 2nd. With special guests Paleface Swiss\, & Signs of the Swarm
LOCATION:533 12th Ave.\, East Moline\, IL\, 61244
DTSTART:20260503T000000Z
DTEND:20260503T040000Z
URL;VALUE=URI:https://therustbeltqc.com/events/lorna-shore
DTSTAMP:20260422T165325Z
UID:69e8fd050d3bf
END:VEVENT
END:VCALENDAR