BEGIN:VCALENDAR
VERSION:2.0
PRODID:-//hacksw/handcal//NONSGML v1.0//EN
CALSCALE:GREGORIAN
BEGIN:VEVENT
SUMMARY:L.A. Guns
DESCRIPTION:The undisputed sleaze kings of the Sunset Strip are bringing the Lucky MF'r Tour to The Rust Belt on July 10th
LOCATION:533 12th Ave.\, East Moline\, IL\, 61244
DTSTART:20260711T000000Z
DTEND:20260711T040000Z
URL;VALUE=URI:https://therustbeltqc.com/events/l-a-guns
DTSTAMP:20260423T192836Z
UID:69ea72e47d317
END:VEVENT
END:VCALENDAR