BEGIN:VCALENDAR
VERSION:2.0
PRODID:-//hacksw/handcal//NONSGML v1.0//EN
CALSCALE:GREGORIAN
BEGIN:VEVENT
SUMMARY:Killswitch Engage
DESCRIPTION:Killswitch Engage at The Rust Belt on September 21st with Machine Head\, Rivers of Nihil\, & Judiciary
LOCATION:533 12th Ave.\, East Moline\, IL\, 61244
DTSTART:20260922T000000Z
DTEND:20260922T030000Z
URL;VALUE=URI:https://therustbeltqc.com/events/killswitch-engage
DTSTAMP:20260423T185711Z
UID:69ea6b8785259
END:VEVENT
END:VCALENDAR