BEGIN:VCALENDAR
VERSION:2.0
PRODID:-//hacksw/handcal//NONSGML v1.0//EN
CALSCALE:GREGORIAN
BEGIN:VEVENT
SUMMARY:Kashmir - The Led Zeppelin Tribute Show
DESCRIPTION:Kashmir\, the Live Led Zeppelin Show: It's all about the experience!!! With the Matt Fuller Band. Friday\, April 24
LOCATION:533 12th Ave.\, East Moline\, IL\, 61244
DTSTART:20260425T010000Z
DTEND:20260425T040000Z
URL;VALUE=URI:https://therustbeltqc.com/events/kashmir-the-led-zeppelin-tribute-show
DTSTAMP:20260421T140715Z
UID:69e78493eb04c
END:VEVENT
END:VCALENDAR