BEGIN:VCALENDAR
VERSION:2.0
PRODID:-//hacksw/handcal//NONSGML v1.0//EN
CALSCALE:GREGORIAN
BEGIN:VEVENT
SUMMARY:In Flames
DESCRIPTION:In Flames with special guests Thrown & Distant on Wednesday\, May 13th
LOCATION:533 12th Ave.\, East Moline\, IL\, 61244
DTSTART:20260514T000000Z
DTEND:20260514T030000Z
URL;VALUE=URI:https://therustbeltqc.com/events/in-flames
DTSTAMP:20260422T170310Z
UID:69e8ff4e1ca25
END:VEVENT
END:VCALENDAR