BEGIN:VCALENDAR
VERSION:2.0
PRODID:-//hacksw/handcal//NONSGML v1.0//EN
CALSCALE:GREGORIAN
BEGIN:VEVENT
SUMMARY:Chad Gray - 30 Years of Mayhem
DESCRIPTION:Celebrate 30 Years of Madness with legendary vocalist Chad Gray featuring hits from Mudvayne and Hellyeah.

LOCATION:533 12th Ave.\, East Moline\, IL\, 61244
DTSTART:20260530T003000Z
DTEND:20260530T033000Z
URL;VALUE=URI:https://therustbeltqc.com/events/chad-gray-30-years-of-mayhem
DTSTAMP:20260422T170031Z
UID:69e8feaf45b02
END:VEVENT
END:VCALENDAR