BEGIN:VCALENDAR
VERSION:2.0
PRODID:-//hacksw/handcal//NONSGML v1.0//EN
CALSCALE:GREGORIAN
BEGIN:VEVENT
SUMMARY:Black Label Society
DESCRIPTION:Black Label Society with Zakk Sabbath & Dark Chapel at The Rust Belt on September 24th
LOCATION:533 12th Ave.\, East Moline\, IL\, 61244
DTSTART:20260925T003000Z
DTEND:20260925T033000Z
URL;VALUE=URI:https://therustbeltqc.com/events/black-label-society
DTSTAMP:20260423T192526Z
UID:69ea72268a3c1
END:VEVENT
END:VCALENDAR