BEGIN:VCALENDAR
VERSION:2.0
PRODID:-//hacksw/handcal//NONSGML v1.0//EN
CALSCALE:GREGORIAN
BEGIN:VEVENT
SUMMARY:Bingo Loco
DESCRIPTION:Bingo like you've never seen before! An interactive party experience with epic dance-offs\, rave rounds\, confetti\, and wild prizes. Back by popular demand.
LOCATION:533 12th Ave.\, East Moline\, IL\, 61244
DTSTART:20260712T000000Z
DTEND:20260712T023000Z
URL;VALUE=URI:https://therustbeltqc.com/events/bingo-loco-july2026
DTSTAMP:20260423T192906Z
UID:69ea7302ecf25
END:VEVENT
END:VCALENDAR