BEGIN:VCALENDAR
VERSION:2.0
PRODID:-//hacksw/handcal//NONSGML v1.0//EN
CALSCALE:GREGORIAN
BEGIN:VEVENT
SUMMARY:Avatar - Don't Go in the Forest 2026
DESCRIPTION:Prepare for a mind-bending experience as AVATAR: DON’T GO IN THE FOREST 2026 brings a whole new dimension to The Rust Belt.
LOCATION:533 12th Ave.\, East Moline\, IL\, 61244
DTSTART:20260430T010000Z
DTEND:20260430T040000Z
URL;VALUE=URI:https://therustbeltqc.com/events/avatar-dont-go-in-the-forest-2026
DTSTAMP:20260421T135628Z
UID:69e7820cc6985
END:VEVENT
END:VCALENDAR